BEGIN:VCALENDAR
VERSION:2.0
PRODID:-//Mission Ecoter France et Territoires Numériques - ECPv6.15.15//NONSGML v1.0//EN
CALSCALE:GREGORIAN
METHOD:PUBLISH
X-ORIGINAL-URL:https://ecoter.org
X-WR-CALDESC:Évènements pour Mission Ecoter France et Territoires Numériques
REFRESH-INTERVAL;VALUE=DURATION:PT1H
X-Robots-Tag:noindex
X-PUBLISHED-TTL:PT1H
BEGIN:VTIMEZONE
TZID:UTC
BEGIN:STANDARD
TZOFFSETFROM:+0000
TZOFFSETTO:+0000
TZNAME:UTC
DTSTART:20220101T000000
END:STANDARD
END:VTIMEZONE
BEGIN:VEVENT
DTSTART;VALUE=DATE:20230405
DTEND;VALUE=DATE:20230407
DTSTAMP:20260424T233320
CREATED:20230303T150029Z
LAST-MODIFIED:20230324T085902Z
UID:7411-1680652800-1680825599@ecoter.org
SUMMARY:Mission Ecoter-France et Territoires Numériques partenaire de Solutions Bas-Carbone et BIM World 2023
DESCRIPTION:Partenaire pour le 3ème année consécutive\, Mission Ecoter-France et Territoires Numériques propose le mercredi 05 avril 2023 à 16h\, une table-ronde intitulée : \n« Quelles solutions numériques à l’heure de la transition énergétique des Territoires ? » \n  \nIntervenants : \n\nAlain BOURCIER\, Vice-président de Nevers Agglomération au Territoire Innovant\, aux Métiers de demain\, à l’Attractivité économique\, à l’International\, à la Santé et à l’Enseignement Supérieur\nConstance LEGALLAIS\, Chargée de mission Innovation territoriale et Smart city – Pôle Ecosystème et Développement\, Département de la transformation numérique et de la stratégie digitale – Banque des Territoires\nFlorence PRESSON\, Adjointe au Maire de Sceaux\, déléguée aux transitions et à l’économie circulaire & solidaire\nMauna TRAIKIA\, Conseillère territoriale en charge du développement numérique de Plaine Commune – Grand Paris\n\nTable-ronde animée par Alain MELKA\, Directeur Général des Services – Mission Ecoter-France et Territoires Numériques \nPréparation :  Quentin MEULLEMIESTRE\, Directeur Général des Services Adjoint- Mission Ecoter-France et Territoires Numériques \nA cette occasion : Mission Ecoter-France et Territoires Numériques a le plaisir de vous offrir des entrées pour les conférences et salons BIM World et Solutions Bas-Carbone\, avec le code ECOTER23. \nCe code donne accès aux salons Solutions Bas Carbone\, BIM World et rencontres des jumeaux numériques + les conférences\, ateliers et animations. (Ainsi qu’au Forum de l’Aménagement Durable organisé sur Solutions Bas Carbone).
URL:https://ecoter.org/event/mission-ecoter-france-et-territoires-numeriques-partenaire-de-solutions-bas-carbone-et-bim-world-2023/
LOCATION:Paris Expo Porte de Versailles\, 1 Place de la Porte de Versailles\, Paris\, 75015\, France
CATEGORIES:Environnement
ATTACH;FMTTYPE=image/jpeg:https://ecoter.org/wp-content/uploads/2020/02/Post-SBC-e1677852857502.jpg
END:VEVENT
END:VCALENDAR