BEGIN:VCALENDAR
VERSION:2.0
PRODID:-//Mission Ecoter France et Territoires Numériques - ECPv6.15.15//NONSGML v1.0//EN
CALSCALE:GREGORIAN
METHOD:PUBLISH
X-ORIGINAL-URL:https://ecoter.org
X-WR-CALDESC:Évènements pour Mission Ecoter France et Territoires Numériques
REFRESH-INTERVAL;VALUE=DURATION:PT1H
X-Robots-Tag:noindex
X-PUBLISHED-TTL:PT1H
BEGIN:VTIMEZONE
TZID:UTC
BEGIN:STANDARD
TZOFFSETFROM:+0000
TZOFFSETTO:+0000
TZNAME:UTC
DTSTART:20220101T000000
END:STANDARD
END:VTIMEZONE
BEGIN:VEVENT
DTSTART;VALUE=DATE:20230928
DTEND;VALUE=DATE:20230930
DTSTAMP:20260421T113220
CREATED:20230616T080644Z
LAST-MODIFIED:20230616T080644Z
UID:7851-1695859200-1696031999@ecoter.org
SUMMARY:Nice Climate Summit
DESCRIPTION:Avec Mission Ecoter-France et Territoires Numériques\, La Tribune : les Villes engagées dans la lutte contre le changement climatique\, et la préservation de la biodiversité \nNice Climate Summit est le premier événement international consacré à la biodiversité et au climat\, fondé sur la recherche et l’innovation\, avec en première ligne les villes\, comme actrices du changement. Organisé par la Métropole de Nice Côte d’Azur\, la Ville de Nice et La Tribune\, Nice Climate Summit se tiendra les 28 et 29 septembre 2023\, au Palais de la Méditerranée\, à Nice. \nLa Métropole de Nice Côte d’Azur et la ville de Nice s’associent à La Tribune pour organiser un événement qui a vocation à être un véritable lieu de réflexion et d’échanges consacré aux enjeux de la lutte contre le changement climatique et à la protection de la biodiversité\, en réunissant experts du monde économique\, scientifique\, politique\, des universitaires\, des chercheurs internationaux\, des personnalités reconnues pour leur engagement\, des citoyens investis dans des solutions innovantes\, ou encore des personnalités politiques de haut niveau. \nVille internationale\, au carrefour de la Méditerranée\, Nice a été choisie par l’Organisation des Nations Unies (ONU) pour accueillir la 3ème Conférence des Nations Unies sur les Océans en juin 2025 pour le compte de la France et du Costa Rica\, signe de l’engagement de la Cité pour construire des solutions durables contre les conséquences du changement climatique et en faveur de la préservation de la biodiversité. L’organisation du Nice Climate Summit les 28 et 29 septembre 2023 s’inscrit dans cette perspective.
URL:https://ecoter.org/event/nice-climate-summit/
LOCATION:Palais de la Méditérannée – Nice\, 13 Promenade des Anglais\, Nice\, Alpes Maritimes\, France
CATEGORIES:Environnement
ATTACH;FMTTYPE=image/jpeg:https://ecoter.org/wp-content/uploads/2020/02/header_pour_fond_bleu-e1686666062293.jpeg
END:VEVENT
END:VCALENDAR