BEGIN:VCALENDAR
VERSION:2.0
PRODID:-//Mission Ecoter France et Territoires Numériques - ECPv6.15.15//NONSGML v1.0//EN
CALSCALE:GREGORIAN
METHOD:PUBLISH
X-WR-CALNAME:Mission Ecoter France et Territoires Numériques
X-ORIGINAL-URL:https://ecoter.org
X-WR-CALDESC:Évènements pour Mission Ecoter France et Territoires Numériques
REFRESH-INTERVAL;VALUE=DURATION:PT1H
X-Robots-Tag:noindex
X-PUBLISHED-TTL:PT1H
BEGIN:VTIMEZONE
TZID:Europe/Paris
BEGIN:DAYLIGHT
TZOFFSETFROM:+0100
TZOFFSETTO:+0200
TZNAME:CEST
DTSTART:20190331T010000
END:DAYLIGHT
BEGIN:STANDARD
TZOFFSETFROM:+0200
TZOFFSETTO:+0100
TZNAME:CET
DTSTART:20191027T010000
END:STANDARD
BEGIN:DAYLIGHT
TZOFFSETFROM:+0100
TZOFFSETTO:+0200
TZNAME:CEST
DTSTART:20200329T010000
END:DAYLIGHT
BEGIN:STANDARD
TZOFFSETFROM:+0200
TZOFFSETTO:+0100
TZNAME:CET
DTSTART:20201025T010000
END:STANDARD
BEGIN:DAYLIGHT
TZOFFSETFROM:+0100
TZOFFSETTO:+0200
TZNAME:CEST
DTSTART:20210328T010000
END:DAYLIGHT
BEGIN:STANDARD
TZOFFSETFROM:+0200
TZOFFSETTO:+0100
TZNAME:CET
DTSTART:20211031T010000
END:STANDARD
END:VTIMEZONE
BEGIN:VEVENT
DTSTART;TZID=Europe/Paris:20201014T143000
DTEND;TZID=Europe/Paris:20201014T153000
DTSTAMP:20260424T183711
CREATED:20200306T101755Z
LAST-MODIFIED:20201008T165524Z
UID:1063-1602685800-1602689400@ecoter.org
SUMMARY:Cybersécurité : comment les collectivités peuvent-elles mieux appréhender ce risque?
DESCRIPTION:Colloque en visioconférence : Mercredi 14 octobre 2020 \nde 14h30 à 15h30 \nAvec le développement du numérique et la multiplication des objets connectés dans la vie quotidienne\, la cybersécurité devient l’une des sources majeures de préoccupation des acteurs publics ou privés\, la protection des données est une priorité absolue face aux cybers menaces accrues et au règlement européen RGPD. \nLes attaques  informatiques se multiplient\, avec des objectifs plus ou moins frauduleux ou tout simplement de destruction de données. En effet\, les cybers attaques perpétrées au cours de ces derniers mois\, fortement médiatisées\, ont eu des effets à la fois dévastateurs sur l’opinion publique en ébranlant sa confiance\, financiers sur les entreprises et les organismes atteints en les paralysant et révélateurs d’insuffisances organisationnelles sur la capacité à pouvoir résister et gérer le retour à la normale. Les collectivités engagées dans une démarche de ville intelligente n’échappent pas à ce phénomène. Dans le cadre d’une visioconférence le mercredi 14 octobre 2020 de 14h30 à 15h30 la Mission Ecoter propose de croiser les regards afin de présenter les différents aspects de la numérisation des collectivités et les principales cybermenaces identifiées\, ainsi que les mesures à mettre en œuvre pour se protéger. \n  \nIntervenants : \n\n\nFranklin Brousse\, Avocat\, spécialiste en droit des nouvelles technologies d’information et de la communication (NTIC)\nFrançois Charbonnier\, Investisseur Confiance Numérique\, Caisse des Dépôts\nPierre Gacic\, Chef de la Division de la Coordination territoriale (ANSSI)\nVincent Riou\, Directeur Associé cybersécurité CEIS\nMauna Traikia\, Conseillère Territoriale Déléguée au développement numérique\, La Plaine Commune – Grand Paris\, Conseillère Municipale déléguée en charge de la smart city à la Mairie d’Epinay-sur-Seine\, Vice-Présidente en charge de la transformation numérique des territoires Pole Systematic\, 1er pôle de compétitivité européen DeepTech\nThierry Vinçon\, Haut-Fonctionnaire\, ancien Maire de Saint-Amand-Montrond                                \n\n                                                                      \n                                                     Partenaire : Les Emotionneurs \n \nModération : Alain Melka – Directeur Général des Services – Mission Ecoter \nInscription par mail : mission.ecoter@ecoter.org
URL:https://ecoter.org/event/cybersecurite-comment-les-collectivites-peuvent-elles-mieux-apprehender-ce-risque/
CATEGORIES:A venir,Cybersécurité
ATTACH;FMTTYPE=image/jpeg:https://ecoter.org/wp-content/uploads/2020/09/cybersecurite-predictions-sophos-2018-684x513-1-e1599147441816.jpg
ORGANIZER;CN="Mission Ecoter":MAILTO:mission.ecoter@ecoter.org
END:VEVENT
END:VCALENDAR