BEGIN:VCALENDAR
VERSION:2.0
PRODID:-//Mission Ecoter France et Territoires Numériques - ECPv6.15.15//NONSGML v1.0//EN
CALSCALE:GREGORIAN
METHOD:PUBLISH
X-WR-CALNAME:Mission Ecoter France et Territoires Numériques
X-ORIGINAL-URL:https://ecoter.org
X-WR-CALDESC:Évènements pour Mission Ecoter France et Territoires Numériques
REFRESH-INTERVAL;VALUE=DURATION:PT1H
X-Robots-Tag:noindex
X-PUBLISHED-TTL:PT1H
BEGIN:VTIMEZONE
TZID:Europe/Paris
BEGIN:DAYLIGHT
TZOFFSETFROM:+0100
TZOFFSETTO:+0200
TZNAME:CEST
DTSTART:20200329T010000
END:DAYLIGHT
BEGIN:STANDARD
TZOFFSETFROM:+0200
TZOFFSETTO:+0100
TZNAME:CET
DTSTART:20201025T010000
END:STANDARD
BEGIN:DAYLIGHT
TZOFFSETFROM:+0100
TZOFFSETTO:+0200
TZNAME:CEST
DTSTART:20210328T010000
END:DAYLIGHT
BEGIN:STANDARD
TZOFFSETFROM:+0200
TZOFFSETTO:+0100
TZNAME:CET
DTSTART:20211031T010000
END:STANDARD
BEGIN:DAYLIGHT
TZOFFSETFROM:+0100
TZOFFSETTO:+0200
TZNAME:CEST
DTSTART:20220327T010000
END:DAYLIGHT
BEGIN:STANDARD
TZOFFSETFROM:+0200
TZOFFSETTO:+0100
TZNAME:CET
DTSTART:20221030T010000
END:STANDARD
END:VTIMEZONE
BEGIN:VEVENT
DTSTART;VALUE=DATE:20210907
DTEND;VALUE=DATE:20210910
DTSTAMP:20260420T093218
CREATED:20201021T072807Z
LAST-MODIFIED:20210606T155822Z
UID:2375-1630972800-1631231999@ecoter.org
SUMMARY:Nos grands rendez-vous : Forum International de la Cybersécurité
DESCRIPTION:Mission Ecoter-France et Territoires Numériques partenaire du FIC 2021\, l’événement de référence en Europe en matière de sécurité et de confiance numérique\n7\, 8 et 9 septembre 2021\nLille – Grand Palais\nEn savoir plus ici \n\n\n\n 
URL:https://ecoter.org/event/nos-grands-rendez-vous-forum-international-de-la-cybersecurite/
LOCATION:Lille\, Grand Palais\, Lille\, Hauts de France\, France
CATEGORIES:A venir,Cybersécurité
ATTACH;FMTTYPE=image/jpeg:https://ecoter.org/wp-content/uploads/2020/10/FIC-2021.jpg
END:VEVENT
END:VCALENDAR