BEGIN:VCALENDAR
VERSION:2.0
PRODID:-//Mission Ecoter France et Territoires Numériques - ECPv6.15.15//NONSGML v1.0//EN
CALSCALE:GREGORIAN
METHOD:PUBLISH
X-WR-CALNAME:Mission Ecoter France et Territoires Numériques
X-ORIGINAL-URL:https://ecoter.org
X-WR-CALDESC:Évènements pour Mission Ecoter France et Territoires Numériques
REFRESH-INTERVAL;VALUE=DURATION:PT1H
X-Robots-Tag:noindex
X-PUBLISHED-TTL:PT1H
BEGIN:VTIMEZONE
TZID:UTC
BEGIN:STANDARD
TZOFFSETFROM:+0000
TZOFFSETTO:+0000
TZNAME:UTC
DTSTART:20220101T000000
END:STANDARD
END:VTIMEZONE
BEGIN:VEVENT
DTSTART;TZID=UTC:20230523T141500
DTEND;TZID=UTC:20230523T153000
DTSTAMP:20260424T190707
CREATED:20230203T165133Z
LAST-MODIFIED:20230510T141620Z
UID:7309-1684851300-1684855800@ecoter.org
SUMMARY:Table ronde (en visio) : “Numérique responsable\, un défi pour nos territoires”
DESCRIPTION:A l’heure de la décarbonation de nos territoires et de la sobriété énergétique\, les collectivités territoriales ont un rôle majeur à jouer dans la réussite de la transition écologique du territoire national. L’enjeu du numérique responsable est donc essentiel. \nA cet effet\, Mission Ecoter-France et Territoires Numériques en association avec methasift (le média des transitions) proposent une Table ronde (en visio) autour du thème : \n« Numérique responsable\, un défi pour nos territoires » \nMardi 23 mai 2023 \nde 14h15 à 15h30 \nCette Table ronde a pour ambition de faire témoigner différents acteurs et de proposer un décryptage sur les défis liés au numérique responsable. \n\nRappel : La loi visant à réduire l’empreinte environnementale du numérique (REEN)\, parue le 16 novembre 2021 au Journal officiel et visant à réduire l’empreinte environnementale du numérique en France établi que\, pour les communes et EPCI de plus de 50 000 habitants\, il sera obligatoire à partir du 1er janvier 2025 de suivre une stratégie numérique responsable.\n\nIntervenants : \n\nAgnès DESSAINTS\, Directrice technique – Cisco\nJulien GOKEL\, Vice-Président en charge de l’Enseignement supérieur\, de la Recherche\, de l’Innovation et du Numérique – Communauté urbaine de Dunkerque\, Maire de Cappelle-la-Grande\, Conseiller Départemental du Nord\nKarine LAURO\, Ingénieure référente territoire intelligent\, Communauté d’agglomération Saint-Lô agglo\nConstance LEGALLAIS\, Chargée de mission Innovation territoriale et Smart city – Pôle Ecosystème et Développement\, Département de la transformation numérique et de la stratégie digitale – Banque des Territoires\nSébastien MAS\, Chef de projet SRDEII – Conseil Régional de l’Ile de La Réunion\nMarie-Céline PLOURIN\, CSR Director – Oodrive\n\n\nModération : \nAlain MELKA – Directeur Général des Services – Mission Ecoter-France et Territoires Numériques \nPréparation : \nQuentin MEULLEMIESTRE – Directeur Général des Services Adjoint – Mission Ecoter-France et Territoires Numériques \nInscriptions uniquement par mail : quentin.meullemiestre@ecoter.org \nProduction technique : Les Émotionneurs
URL:https://ecoter.org/event/table-ronde-en-visio-numerique-responsable-un-defi-pour-nos-territoires/
LOCATION:Visioconférence
CATEGORIES:Numérique et Territoires
ATTACH;FMTTYPE=image/jpeg:https://ecoter.org/wp-content/uploads/2020/02/ecologie-de-la-donnee-1080x675-1-e1675335596595.jpeg
END:VEVENT
END:VCALENDAR